BEGIN:VCALENDAR
VERSION:2.0
PRODID:-//Plataforma Ulloa Viva - ECPv6.14.0//NONSGML v1.0//EN
CALSCALE:GREGORIAN
METHOD:PUBLISH
X-WR-CALNAME:Plataforma Ulloa Viva
X-ORIGINAL-URL:http://plataformaulloaviva.com
X-WR-CALDESC:Events for Plataforma Ulloa Viva
REFRESH-INTERVAL;VALUE=DURATION:PT1H
X-Robots-Tag:noindex
X-PUBLISHED-TTL:PT1H
BEGIN:VTIMEZONE
TZID:Europe/Paris
BEGIN:DAYLIGHT
TZOFFSETFROM:+0100
TZOFFSETTO:+0200
TZNAME:CEST
DTSTART:20240331T010000
END:DAYLIGHT
BEGIN:STANDARD
TZOFFSETFROM:+0200
TZOFFSETTO:+0100
TZNAME:CET
DTSTART:20241027T010000
END:STANDARD
BEGIN:DAYLIGHT
TZOFFSETFROM:+0100
TZOFFSETTO:+0200
TZNAME:CEST
DTSTART:20250330T010000
END:DAYLIGHT
BEGIN:STANDARD
TZOFFSETFROM:+0200
TZOFFSETTO:+0100
TZNAME:CET
DTSTART:20251026T010000
END:STANDARD
END:VTIMEZONE
BEGIN:VEVENT
DTSTART;TZID=Europe/Paris:20250426T183000
DTEND;TZID=Europe/Paris:20250426T200000
DTSTAMP:20260421T123159
CREATED:20250414T062806Z
LAST-MODIFIED:20250414T070326Z
UID:3438-1745692200-1745697600@plataformaulloaviva.com
SUMMARY:Estrea da película "O Ulla Si"\, 26 de abril en Antas de Ulla
DESCRIPTION:Sábado 26 de abril\, 18:30 horas. Antas de Ulla (Casa da Cultura). \nTras meses de proceso participativo de organización\, gravación e post produción\, chega a estrea mundial de “O Ulla Si”\, un proxecto audiovisual da Fundación Entretantos (coa colaboración de Agrocuir e Plataforma Ulloa Viva) para repensar o presente e futuro do Ulla. \nEsta película nace dunha reflexión colectiva nas comarcas galegas da Ulloa\, Terras de Deza e Terras de Melide. Todas elas son áreas afectadas polo proxecto de Altri e Greenalia\, que pretende instalar unha macrofábrica de celulosa. \nA través de diversos materiais e linguaxes audiovisuais\, captura as paisaxes\, os pensamentos e as vidas do territorio con sinxeleza e honestidade. As voces e a memoria oral\, que flúen ao longo do documental como o propio río Ulla\, son a alma deste relato colectivo. \nEste é un convite para todas as persoas que participastes de calquera xeito neste proceso participativo: a través do envío de fragmentos de vídeo\, de entrevistas\, de conductores polo territorio\, etc. \n \nEste documental enmárcase dentro da Escuelaboratorio\, un proxecto de reflexión colectiva sobre participación social promovido pola Fundación Entretantos\, que se desenvolve desde hai anos co apoio do Ministerio para a Transición Ecolóxica e o Reto Demográfico e do Ministerio de Dereitos Sociais\, Consumo e Axenda 2030.
URL:http://plataformaulloaviva.com/axenda/estrea-documental-ulla-si-26-abril-antas-ulla/
LOCATION:Casa da Cultura\, Antas de Ulla\, Calle Miguel Ángel\, 20\, Antas de Ulla\, Lugo\, 27570\, Spain
ATTACH;FMTTYPE=image/webp:http://plataformaulloaviva.com/wp-content/uploads/2025/04/ulla-si-estrea.webp
END:VEVENT
BEGIN:VEVENT
DTSTART;VALUE=DATE:20250426
DTEND;VALUE=DATE:20250427
DTSTAMP:20260421T123159
CREATED:20250418T123216Z
LAST-MODIFIED:20250423T111927Z
UID:3508-1745625600-1745711999@plataformaulloaviva.com
SUMMARY:Excursión do Ateneo Atlántico á comarca da Ulloa en Lugo\, 26 de abril
DESCRIPTION:Sábado 26 de abril de 8:30 a 21 horas. Saída de Vigo (Antigo Reitorado). Organiza: Ateneo Atlántico. \nO Ateneo Atlántico propón unha excursión á Ulloa con especial atención nos valores arquitectónicos\, económicos e sociais da comarca\, en risco pola ameaza de Altri. \nVisitarase: \n\nO Castelo de Pambre\, último bastión irmandiño\, guiados por Lalo\, do Instituto de Estudos Ulloáns.\nA igrexa de Vilar de Donas con fermosos murais góticos.\nAvistaremos o panorama onde Altri pretende facer a unha desfeita ecolóxica e paisaxística\, coa beizón da Xunta de Galicia.\nDespois de xantar iremos acompañados de María á @granxamaruxa\, onde nos ensinará como se crían vacas de xeito ecolóxico para conseguir o leite máis premiado e os seus derivados.\n\nPrezo: 55€ para persoas socias e 65€ para non socias (inclúe os traslados\, a comida\, o seguro e as visitas guiadas). Inscricións por WhatsApp ao número 635685838 a partir do luns 21. \nToda a información detallada.
URL:http://plataformaulloaviva.com/axenda/excursion-do-ateneo-atlantico-a-comarca-da-ulloa-en-lugo/
LOCATION:A Coruña
ATTACH;FMTTYPE=image/jpeg:http://plataformaulloaviva.com/wp-content/uploads/2025/04/castelo-pambre-ateneo-atlantico.jpg
END:VEVENT
BEGIN:VEVENT
DTSTART;TZID=Europe/Paris:20250420T120000
DTEND;TZID=Europe/Paris:20250420T180000
DTSTAMP:20260421T123159
CREATED:20250415T111609Z
LAST-MODIFIED:20250420T065356Z
UID:3480-1745150400-1745172000@plataformaulloaviva.com
SUMMARY:Convocatoria de asemblea xeral ordinaria da plataforma
DESCRIPTION:Domingo 20 de abril\, 16 h. Palas de Rei (Casa da Cultura). \nComo vimos de comunicar hai uns días xs socixs\, a asemblea xeral ordinaria terá lugar o próximo domingo\, 20 de abril de 2025. Coa finalidade de poder artellar e alixeirar a loxística da asemblea e facer as reservas pertinentes dos espazos\, precisábamos estimar un número posible de persoas asistentes\, e para iso necesitamos que nos achegues a seguinte información completando o formulario de inscrición na asemblea xeral. Ao mesmo tempo\, no mesmo formulario existe información relevante para o acto que pode ser do teu interese. \nPara ese mesmo día\, propoñemos unha xornada máis completa de mañá\, para que todo o mundo\, tamén as persoas de máis lonxe\, poidan desfrutar da convivencia.
URL:http://plataformaulloaviva.com/axenda/convocatoria-de-asemblea-xeral-ordinaria-da-plataforma/
LOCATION:Casa da Cultura\, Palas de Rei\, Praza da Ulloa\, s/n\, Palas de Rei\, Lugo\, 27200\, Spain
ATTACH;FMTTYPE=image/jpeg:http://plataformaulloaviva.com/wp-content/uploads/2024/12/026_manifestacion_altri_non.jpg
END:VEVENT
BEGIN:VEVENT
DTSTART;TZID=Europe/Paris:20250420T080000
DTEND;TZID=Europe/Paris:20250529T233000
DTSTAMP:20260421T123159
CREATED:20250422T072705Z
LAST-MODIFIED:20250422T073159Z
UID:3614-1745136000-1748561400@plataformaulloaviva.com
SUMMARY:Campaña para financiar a estratexia xudicial da Plataforma Ulloa Viva para frear a instalación da macrocelulosa de Altri
DESCRIPTION:Dende o momento no que se coñeceron\, a través da prensa\, os plans da Xunta de Galicia e da multinacional Altri para construír a macrocelulosa\, a Plataforma Ulloa Viva adquiriu a responsabilidade de organizar á veciñanza\, informar\, traducir\, sensibilizar e representar aos veciños e veciñas\, así como a calquera persoa afectada por este macro proxecto\, declarado pola Xunta de Galicia como Proxecto Industrial Estratéxico (PIE). \n\n\n\nDefendémonos grazas a moito traballo feito de forma voluntaria. Pero agora\, precisamos os recursos económicos desta campaña de financiamento colectivo para afrontar\, con solvencia económica\, técnica e xurídica\, as diferentes accións administrativas e\, sobre todo\, xudiciais\, que a Plataforma Ulloa Viva considere necesario emprender contra das resolucións administrativas de autorización que poidan ser concedidas á macrocelulosa\, así como\, no seu caso\, o outorgamento de subvencións públicas á mesma. Entre as principais accións xurídicas inclúense a impugnación xudicial\, como mínimo\, de 3 actos administrativos: captación de augas\, Autorización Ambiental Integrada (AAI) e Proxecto Industrial Estratéxico (PIE). \nFai aquí a túa doazón:
URL:http://plataformaulloaviva.com/axenda/campana-para-financiar-a-estratexia-xudicial-da-plataforma-ulloa-viva-para-frear-a-instalacion-da-macrocelulosa-de-altri/
LOCATION:A Coruña
ATTACH;FMTTYPE=image/webp:http://plataformaulloaviva.com/wp-content/uploads/2025/03/vecinos-ulloa-pancarta-altri-non.webp
END:VEVENT
BEGIN:VEVENT
DTSTART;TZID=Europe/Paris:20250412T200000
DTEND;TZID=Europe/Paris:20250412T220000
DTSTAMP:20260421T123159
CREATED:20250410T070838Z
LAST-MODIFIED:20250410T070838Z
UID:3432-1744488000-1744495200@plataformaulloaviva.com
SUMMARY:Presentación do documental "A Loita Final"
DESCRIPTION:Convidámosvos o vindeiro sábado 12 de abril\, ás 20:00 horas\, na Casa da Cultura de Palas de Rei\, á presentación do documental “A Loita Final”. \nUn documental dirixido por Enrique Banet e producida por Mabel Rivera sobre os posibles efectos da implantación da fábrica de macrocelulosa Altri no corazón de Galicia. \nEsperámosvos!
URL:http://plataformaulloaviva.com/axenda/presentacion-do-documental-a-loita-final/
LOCATION:Casa da Cultura\, Palas de Rei\, Praza da Ulloa\, s/n\, Palas de Rei\, Lugo\, 27200\, Spain
ATTACH;FMTTYPE=image/jpeg:http://plataformaulloaviva.com/wp-content/uploads/2025/04/altri-non-loita-final.jpg
END:VEVENT
BEGIN:VEVENT
DTSTART;TZID=Europe/Paris:20250322T130000
DTEND;TZID=Europe/Paris:20250322T150000
DTSTAMP:20260421T123159
CREATED:20250312T153551Z
LAST-MODIFIED:20250320T062939Z
UID:3163-1742648400-1742655600@plataformaulloaviva.com
SUMMARY:Manifestación por terra e por mar: Non a Altri\, Non á mina de Touro - O Pino
DESCRIPTION:A Pobra do Caramiñal.\n22 de marzo de 2025\, 12 h.\nSaída da Estación de autobuses. \nNeste 22 de marzo\, acompañaremos á Plataforma en Defensa da Ría de Arousa a reclamar\, entre outras cousas\, a protección do marisqueo fronte aos proxectos extractivistas que queren acabar cos recursos naturais dos que dispoñemos. \nConsulta os autobuses e outra información importante.
URL:http://plataformaulloaviva.com/axenda/manifestacion-por-terra-e-por-mar-non-a-altri-non-a-mina-de-touro-o-pino/
LOCATION:Estación de autobuses – A Pobra do Caramiñal\, Carretera del Puerto Comercial s/n\, A Pobra do Caramiñal\, Pontevedra\, 15940\, Spain
ATTACH;FMTTYPE=image/jpeg:http://plataformaulloaviva.com/wp-content/uploads/2025/03/manifestacion-pdra-altri-non-mina-touro-pino-non.jpg
END:VEVENT
BEGIN:VEVENT
DTSTART;TZID=Europe/Paris:20250316T130000
DTEND;TZID=Europe/Paris:20250316T150000
DTSTAMP:20260421T123159
CREATED:20250314T172508Z
LAST-MODIFIED:20250314T172606Z
UID:3273-1742130000-1742137200@plataformaulloaviva.com
SUMMARY:Concentracións na bacía do Ulla
DESCRIPTION:Este domingo 16 de marzo\, a partir das 12\, a Plataforma Ulloa Viva convoca a veciños e veciñas a concentrarse diante dos seus concellos en protesta pola aprobación por parte da Xunta do informe ambiental da macrocelulosa Altri. \n\nAgolada: Pz. do Concello. \nAntas: Pz. do Concello. \nArzúa: Pz. de Galicia. \nA Ulla Viva: Ponte de Pontevea (río Ulla\, entre Teo e A Estrada). \nBaixo Ulla: Diante do Concello de Padrón. \nChantada: Pz. do Cantón. \nMelide: Pz. do Concello. \nMonterroso: Diante do Concello. \nPalas de Rei: Praza do Concello. \nSantiso: Diante do Concello vello.
URL:http://plataformaulloaviva.com/axenda/concentracions-na-bacia-do-ulla/
LOCATION:A Coruña
ATTACH;FMTTYPE=image/jpeg:http://plataformaulloaviva.com/wp-content/uploads/2025/03/web-concentracion-bacia-ulla.jpg
END:VEVENT
BEGIN:VEVENT
DTSTART;VALUE=DATE:20241212
DTEND;VALUE=DATE:20241214
DTSTAMP:20260421T123159
CREATED:20241204T082441Z
LAST-MODIFIED:20241204T082736Z
UID:2650-1733965200-1734051599@plataformaulloaviva.com
SUMMARY:O obradoiro  "FOTO DO FUTURO" Monterroso
DESCRIPTION:En que consiste? \nO obradoiro  “Foto do Futuro” é unha xuntanza colectiva para  contar as nosas historias e compartir maneiras de vivir do noso territorio. Falaremos do arquivo que albergamos e mantemos vivo mediante obxectos e fotografías.\n Importante: levar unha fotografía ou obxecto persoal para acudir á xuntanza \nQuen o organiza?\nSomos Laura e Paloma. Traballamos co audiovisual\, co cinema e ca comunidade 🙂 Queremos crear un espacio de coidados onde poidamos e sintámonos cómodos para compartir as nosas historias. Porque ninguén o pode contar mellor ca ti.\nNon dubides en contactarnos se tes algunha dúbida! \n\nConfirma a túa asistencia\nLaura: 667 315 332\nPaloma: 661 889 260\n\nOnde? \nen Granxa Maruxa
URL:http://plataformaulloaviva.com/axenda/o-obradoiro-foto-do-futuro-monterroso/
LOCATION:A Coruña
ATTACH;FMTTYPE=image/jpeg:http://plataformaulloaviva.com/wp-content/uploads/2024/12/acto_Monterroso.jpg
END:VEVENT
BEGIN:VEVENT
DTSTART;VALUE=DATE:20241205
DTEND;VALUE=DATE:20241207
DTSTAMP:20260421T123159
CREATED:20241203T113857Z
LAST-MODIFIED:20241203T113857Z
UID:2621-1733360400-1733446799@plataformaulloaviva.com
SUMMARY:Mesa redonda e debate
DESCRIPTION:En Palas de Rei\, na casa da cultura\, tivo lugar fai xa dous anos a primeira charla e debate veciñal sobre o proxecto de ALTRI e Greenalia. Este xoves\, volvemos a facer unha xuntanza para recordar\, para entender e compartir\, porque seguimos loitando dous anos despois. \nAgardámoste
URL:http://plataformaulloaviva.com/axenda/mesa-redonda-e-debate/
LOCATION:A Coruña
ATTACH;FMTTYPE=image/jpeg:http://plataformaulloaviva.com/wp-content/uploads/2024/12/EVENTO_PALAS.jpg
END:VEVENT
BEGIN:VEVENT
DTSTART;VALUE=DATE:20241204
DTEND;VALUE=DATE:20241206
DTSTAMP:20260421T123159
CREATED:20241204T081950Z
LAST-MODIFIED:20241204T082231Z
UID:2645-1733274000-1733360399@plataformaulloaviva.com
SUMMARY:Hoxe primeiro obradoiro da "FOTO DO FUTURO" en Antas!
DESCRIPTION:En que consiste? \nO obradoiro  “Foto do Futuro” é unha xuntanza colectiva para  contar as nosas historias e compartir maneiras de vivir do noso territorio. Falaremos do arquivo que albergamos e mantemos vivo mediante obxectos e fotografías.\n Importante: levar unha fotografía ou obxecto persoal para acudir á xuntanza \nQuen o organiza?\nSomos Laura e Paloma. Traballamos co audiovisual\, co cinema e ca comunidade 🙂 Queremos crear un espacio de coidados onde poidamos e sintámonos cómodos para compartir as nosas historias. Porque ninguén o pode contar mellor ca ti.\nNon dubides en contactarnos se tes algunha dúbida! \n\nConfirma a túa asistencia\nLaura: 667 315 332\nPaloma: 661 889 260\n\nOnde? \nNa biblioteca da Casa da Cultura de Antas
URL:http://plataformaulloaviva.com/axenda/hoxe-primeiro-obradoiro-da-foto-do-futuro-en-antas/
LOCATION:A Coruña
ATTACH;FMTTYPE=image/jpeg:http://plataformaulloaviva.com/wp-content/uploads/2024/12/acto_antas.jpg
END:VEVENT
BEGIN:VEVENT
DTSTART;VALUE=DATE:20241129
DTEND;VALUE=DATE:20241201
DTSTAMP:20260421T123159
CREATED:20241122T075128Z
LAST-MODIFIED:20241122T075442Z
UID:2283-1732842000-1732928399@plataformaulloaviva.com
SUMMARY:Charla informativa en Pontevedra
DESCRIPTION:Da man da nosa compañeira Ana\, poderás entender mellor porque o 15 de decembro todas as galegas e galegos temos que ir berrar xuntos \nALTRI NON! \nEsta loita é polo presente\, pero sobre todo\, é polo futuro. \nA AUGA É NOSA
URL:http://plataformaulloaviva.com/axenda/charla-informativa-en-pontevedra/
LOCATION:A Coruña
ATTACH;FMTTYPE=image/jpeg:http://plataformaulloaviva.com/wp-content/uploads/2024/11/charla_pontevedra.jpg
END:VEVENT
BEGIN:VEVENT
DTSTART;VALUE=DATE:20241126
DTEND;VALUE=DATE:20241128
DTSTAMP:20260421T123159
CREATED:20241114T144556Z
LAST-MODIFIED:20241114T144729Z
UID:2248-1732582800-1732669199@plataformaulloaviva.com
SUMMARY:Lalín e a celulosa de ALTRI
DESCRIPTION:¿Cres que a celulosa de ALTRI- GREENALIA que se pretende instalar na Ulloa non lle afecta a Lalín? \nAgardámoste as 20:00 horas no Casino\, da mán de dous expertos\, descubrirás por qué o 15 de decembro o teu sitio é Santiago de Compostela berrando  ALTRI NON! \n 
URL:http://plataformaulloaviva.com/axenda/charla-informativa-en-lalin/
LOCATION:A Coruña
ATTACH;FMTTYPE=image/jpeg:http://plataformaulloaviva.com/wp-content/uploads/2024/11/ACTOS-E-EVENTOS.jpg
END:VEVENT
BEGIN:VEVENT
DTSTART;VALUE=DATE:20241123
DTEND;VALUE=DATE:20241125
DTSTAMP:20260421T123159
CREATED:20241114T140854Z
LAST-MODIFIED:20241114T142753Z
UID:2242-1732323600-1732409999@plataformaulloaviva.com
SUMMARY:Foliada Viva Arzúa
DESCRIPTION:O 23 de novembro temos todos unha cita en Arzúa. Foliada na defensa da terra!
URL:http://plataformaulloaviva.com/axenda/foliada-viva-arzua/
LOCATION:Local social Santa María
ATTACH;FMTTYPE=image/jpeg:http://plataformaulloaviva.com/wp-content/uploads/2024/11/Foliada_arzua_altri_non.jpg
END:VEVENT
BEGIN:VEVENT
DTSTART;VALUE=DATE:20241121
DTEND;VALUE=DATE:20241123
DTSTAMP:20260421T123159
CREATED:20241108T104319Z
LAST-MODIFIED:20241108T111502Z
UID:2166-1732150800-1732237199@plataformaulloaviva.com
SUMMARY:Proxección documental
DESCRIPTION:Proxección en compostela do documental Altri: A sede insostible 
URL:http://plataformaulloaviva.com/axenda/proxeccinon-documental/
LOCATION:A Coruña
ATTACH;FMTTYPE=image/jpeg:http://plataformaulloaviva.com/wp-content/uploads/2024/11/acto_compostela.jpg
END:VEVENT
BEGIN:VEVENT
DTSTART;VALUE=DATE:20241116
DTEND;VALUE=DATE:20241118
DTSTAMP:20260421T123159
CREATED:20241104T113803Z
LAST-MODIFIED:20241104T113831Z
UID:1907-1731718800-1731805199@plataformaulloaviva.com
SUMMARY:𝐈 𝐅𝐞𝐬𝐭𝐢𝐯𝐚𝐥 𝐒𝐚𝐥𝐯𝐚𝐦𝐨𝐧𝐭𝐞𝐬
DESCRIPTION:A Comunidade de Montes de Tameiga e a plataforma Ulloa Viva únense para celebrar o 𝐈 𝐅𝐞𝐬𝐭𝐢𝐯𝐚𝐥 𝐒𝐚𝐥𝐯𝐚𝐦𝐨𝐧𝐭𝐞𝐬!\n\nOs días 15 e 16 de novembro\, a sala Rebullón converterase no epicentro da defensa da nosa terra e dos recursos naturais\, con todos os beneficios a favor da plataforma Ulloa Viva (@plataformaulloaviva). Este festival nace como unha resposta contundente á ameaza que representan diversos macroproxectos económicos e comerciais que poñen en risco as nosas áreas naturais\, coa colaboración da administración autonómica. Entre eles\, destacan o proxecto GS360 e a planta de celulosa de Altri en Palas de Rei.\n\n Seis bandas galegas unirán as súas forzas para ofrecer un evento solidario\, en previsión da manifestación nacional que terá lugar en decembro en Compostela.\n\n Venres 15 de novembro:\nTiam GZ: unha explosión de rap e festa que celebra a nosa cultura con ritmos vibrantes.\nFlow do Toxo: un grupo feminino de rap reivindicativo que fará eco das voces do rural.\nWillow GHZ: un artista emerxente que está dando que falar na escena do hip hop galego.\n\n Sábado 16 de novembro:\nO Leo de Matamá: unha irreverente mestura de rock e punk\, con letras que invitan á reflexión e á risa.\nSun Iou: a nova promesa do rock&roll en galego que non podes perder.\nRuxe Ruxe: referentes do rock e punk galego que traen toda a súa traxectoria á sala.\n\n Únete a nós para defender a nosa terra! A música e a natureza agárdanche. Xuntos\, podemos preservar os nosos recursos naturais e asegurar un futuro sustentable para Galicia.\n\n Entrada Anticipada 1 día: 10€ / Abono anticipado 2 días: 15€\n Entrada Billeteira 1 día: 13€ / Abono 18€\n Entradas físicas á venda: Cantina As Pedriñas (@cantinaaspedrinas)\n Entrada web: ligazón en bio\n Venres 15 e sábado 16 de novembro\n 21:00h\n Avda. Rebullón Nº 23 – Tameiga
URL:http://plataformaulloaviva.com/axenda/%f0%9d%90%88-%f0%9d%90%85%f0%9d%90%9e%f0%9d%90%ac%f0%9d%90%ad%f0%9d%90%a2%f0%9d%90%af%f0%9d%90%9a%f0%9d%90%a5-%f0%9d%90%92%f0%9d%90%9a%f0%9d%90%a5%f0%9d%90%af%f0%9d%90%9a%f0%9d%90%a6%f0%9d%90%a8/
LOCATION:A Coruña
ATTACH;FMTTYPE=image/jpeg:http://plataformaulloaviva.com/wp-content/uploads/2024/11/Festival_Santamontes_altrinon.jpg
END:VEVENT
BEGIN:VEVENT
DTSTART;VALUE=DATE:20241113
DTEND;VALUE=DATE:20241115
DTSTAMP:20260421T123159
CREATED:20241104T114005Z
LAST-MODIFIED:20241106T162710Z
UID:1911-1731459600-1731545999@plataformaulloaviva.com
SUMMARY:Charla Informativa A Estrada
DESCRIPTION:
URL:http://plataformaulloaviva.com/axenda/charla-informativa-a-estrada/
LOCATION:A Coruña
ATTACH;FMTTYPE=image/jpeg:http://plataformaulloaviva.com/wp-content/uploads/2024/11/Charla_informativa_a_estrada_altrinon.jpg
END:VEVENT
BEGIN:VEVENT
DTSTART;VALUE=DATE:20241109
DTEND;VALUE=DATE:20241111
DTSTAMP:20260421T123159
CREATED:20241104T102828Z
LAST-MODIFIED:20241106T162656Z
UID:1894-1731114000-1731200399@plataformaulloaviva.com
SUMMARY:Romaría Viva de Santiso
DESCRIPTION:Xornada reivindicativa no Concello de Santiso \nA xornada comeza as 11:00h cunha andaina de 8 km desde o Pavillón Multiusos de Visantoña ata o encoro de Portodemouros. Continuamos coa sesión vermú como toda boa romaría. Logo haberá unha zona habilitada para poder xantar polvo e churraco. Ás 20:00 horas terá lugar unha mesa informativa para falar do proxecto de ALTRI-GREENALIA. \nE xa para rematar\, verbena con Loita Amada e Tiruleque. \nAgardámoste!
URL:http://plataformaulloaviva.com/axenda/romaria-viva-de-santiso/
LOCATION:A Coruña
ATTACH;FMTTYPE=image/jpeg:http://plataformaulloaviva.com/wp-content/uploads/2024/11/Romaria_Santiso.jpg
END:VEVENT
BEGIN:VEVENT
DTSTART;VALUE=DATE:20241101
DTEND;VALUE=DATE:20241103
DTSTAMP:20260421T123159
CREATED:20241104T113303Z
LAST-MODIFIED:20241106T162720Z
UID:1904-1730422800-1730509199@plataformaulloaviva.com
SUMMARY:Cine-Agolada
DESCRIPTION:
URL:http://plataformaulloaviva.com/axenda/cine-agolada/
LOCATION:A Coruña
ATTACH;FMTTYPE=image/jpeg:http://plataformaulloaviva.com/wp-content/uploads/2024/11/documental_agolada.jpg
END:VEVENT
BEGIN:VEVENT
DTSTART;VALUE=DATE:20241101
DTEND;VALUE=DATE:20241103
DTSTAMP:20260421T123159
CREATED:20241104T112323Z
LAST-MODIFIED:20241106T162716Z
UID:1898-1730422800-1730509199@plataformaulloaviva.com
SUMMARY:Productoras na Feira de Santos
DESCRIPTION:Cando? día da feira de santos\, día 1 de novembro estaremos produtorxs da terra do medio\nOnde ? No local da plataforma en Monterroso\nPor qué ? Porque nunha das feiras máis antigas de Galicia temos que amosar que as produtoras somos parte imprescindible para seguir construíndo un rural vivo\, habitado\, respetuoso co medio e herdeiro das ensinanzas das ancestrxs.\nQue haberá ? teremos o posto de merchandising e informativo da plataforma\, ás 11:30 acompañaranos o comando curuxás\n\nRecuperaremos o *manifesto que asinamos as produtoras e asociacións e selos galegos contra a implantación de altri hai meses\, a lectura será cara as 12:30
URL:http://plataformaulloaviva.com/axenda/1898/
LOCATION:A Coruña
ATTACH;FMTTYPE=image/jpeg:http://plataformaulloaviva.com/wp-content/uploads/2024/11/Productoras_monterroso.jpg
END:VEVENT
END:VCALENDAR