BEGIN:VCALENDAR
VERSION:2.0
PRODID:-//Plataforma Ulloa Viva - ECPv6.14.0//NONSGML v1.0//EN
CALSCALE:GREGORIAN
METHOD:PUBLISH
X-ORIGINAL-URL:http://plataformaulloaviva.com
X-WR-CALDESC:Events for Plataforma Ulloa Viva
REFRESH-INTERVAL;VALUE=DURATION:PT1H
X-Robots-Tag:noindex
X-PUBLISHED-TTL:PT1H
BEGIN:VTIMEZONE
TZID:Europe/Paris
BEGIN:DAYLIGHT
TZOFFSETFROM:+0100
TZOFFSETTO:+0200
TZNAME:CEST
DTSTART:20240331T010000
END:DAYLIGHT
BEGIN:STANDARD
TZOFFSETFROM:+0200
TZOFFSETTO:+0100
TZNAME:CET
DTSTART:20241027T010000
END:STANDARD
END:VTIMEZONE
BEGIN:VEVENT
DTSTART;VALUE=DATE:20241123
DTEND;VALUE=DATE:20241125
DTSTAMP:20260421T141145
CREATED:20241114T140854Z
LAST-MODIFIED:20241114T142753Z
UID:2242-1732323600-1732409999@plataformaulloaviva.com
SUMMARY:Foliada Viva Arzúa
DESCRIPTION:O 23 de novembro temos todos unha cita en Arzúa. Foliada na defensa da terra!
URL:http://plataformaulloaviva.com/axenda/foliada-viva-arzua/
LOCATION:Local social Santa María
ATTACH;FMTTYPE=image/jpeg:http://plataformaulloaviva.com/wp-content/uploads/2024/11/Foliada_arzua_altri_non.jpg
END:VEVENT
BEGIN:VEVENT
DTSTART;VALUE=DATE:20241121
DTEND;VALUE=DATE:20241123
DTSTAMP:20260421T141145
CREATED:20241108T104319Z
LAST-MODIFIED:20241108T111502Z
UID:2166-1732150800-1732237199@plataformaulloaviva.com
SUMMARY:Proxección documental
DESCRIPTION:Proxección en compostela do documental Altri: A sede insostible 
URL:http://plataformaulloaviva.com/axenda/proxeccinon-documental/
LOCATION:Pontevedra
ATTACH;FMTTYPE=image/jpeg:http://plataformaulloaviva.com/wp-content/uploads/2024/11/acto_compostela.jpg
END:VEVENT
BEGIN:VEVENT
DTSTART;VALUE=DATE:20241116
DTEND;VALUE=DATE:20241118
DTSTAMP:20260421T141145
CREATED:20241104T113803Z
LAST-MODIFIED:20241104T113831Z
UID:1907-1731718800-1731805199@plataformaulloaviva.com
SUMMARY:𝐈 𝐅𝐞𝐬𝐭𝐢𝐯𝐚𝐥 𝐒𝐚𝐥𝐯𝐚𝐦𝐨𝐧𝐭𝐞𝐬
DESCRIPTION:A Comunidade de Montes de Tameiga e a plataforma Ulloa Viva únense para celebrar o 𝐈 𝐅𝐞𝐬𝐭𝐢𝐯𝐚𝐥 𝐒𝐚𝐥𝐯𝐚𝐦𝐨𝐧𝐭𝐞𝐬!\n\nOs días 15 e 16 de novembro\, a sala Rebullón converterase no epicentro da defensa da nosa terra e dos recursos naturais\, con todos os beneficios a favor da plataforma Ulloa Viva (@plataformaulloaviva). Este festival nace como unha resposta contundente á ameaza que representan diversos macroproxectos económicos e comerciais que poñen en risco as nosas áreas naturais\, coa colaboración da administración autonómica. Entre eles\, destacan o proxecto GS360 e a planta de celulosa de Altri en Palas de Rei.\n\n Seis bandas galegas unirán as súas forzas para ofrecer un evento solidario\, en previsión da manifestación nacional que terá lugar en decembro en Compostela.\n\n Venres 15 de novembro:\nTiam GZ: unha explosión de rap e festa que celebra a nosa cultura con ritmos vibrantes.\nFlow do Toxo: un grupo feminino de rap reivindicativo que fará eco das voces do rural.\nWillow GHZ: un artista emerxente que está dando que falar na escena do hip hop galego.\n\n Sábado 16 de novembro:\nO Leo de Matamá: unha irreverente mestura de rock e punk\, con letras que invitan á reflexión e á risa.\nSun Iou: a nova promesa do rock&roll en galego que non podes perder.\nRuxe Ruxe: referentes do rock e punk galego que traen toda a súa traxectoria á sala.\n\n Únete a nós para defender a nosa terra! A música e a natureza agárdanche. Xuntos\, podemos preservar os nosos recursos naturais e asegurar un futuro sustentable para Galicia.\n\n Entrada Anticipada 1 día: 10€ / Abono anticipado 2 días: 15€\n Entrada Billeteira 1 día: 13€ / Abono 18€\n Entradas físicas á venda: Cantina As Pedriñas (@cantinaaspedrinas)\n Entrada web: ligazón en bio\n Venres 15 e sábado 16 de novembro\n 21:00h\n Avda. Rebullón Nº 23 – Tameiga
URL:http://plataformaulloaviva.com/axenda/%f0%9d%90%88-%f0%9d%90%85%f0%9d%90%9e%f0%9d%90%ac%f0%9d%90%ad%f0%9d%90%a2%f0%9d%90%af%f0%9d%90%9a%f0%9d%90%a5-%f0%9d%90%92%f0%9d%90%9a%f0%9d%90%a5%f0%9d%90%af%f0%9d%90%9a%f0%9d%90%a6%f0%9d%90%a8/
LOCATION:Pontevedra
ATTACH;FMTTYPE=image/jpeg:http://plataformaulloaviva.com/wp-content/uploads/2024/11/Festival_Santamontes_altrinon.jpg
END:VEVENT
BEGIN:VEVENT
DTSTART;VALUE=DATE:20241113
DTEND;VALUE=DATE:20241115
DTSTAMP:20260421T141145
CREATED:20241104T114005Z
LAST-MODIFIED:20241106T162710Z
UID:1911-1731459600-1731545999@plataformaulloaviva.com
SUMMARY:Charla Informativa A Estrada
DESCRIPTION:
URL:http://plataformaulloaviva.com/axenda/charla-informativa-a-estrada/
LOCATION:Pontevedra
ATTACH;FMTTYPE=image/jpeg:http://plataformaulloaviva.com/wp-content/uploads/2024/11/Charla_informativa_a_estrada_altrinon.jpg
END:VEVENT
BEGIN:VEVENT
DTSTART;VALUE=DATE:20241109
DTEND;VALUE=DATE:20241111
DTSTAMP:20260421T141145
CREATED:20241104T102828Z
LAST-MODIFIED:20241106T162656Z
UID:1894-1731114000-1731200399@plataformaulloaviva.com
SUMMARY:Romaría Viva de Santiso
DESCRIPTION:Xornada reivindicativa no Concello de Santiso \nA xornada comeza as 11:00h cunha andaina de 8 km desde o Pavillón Multiusos de Visantoña ata o encoro de Portodemouros. Continuamos coa sesión vermú como toda boa romaría. Logo haberá unha zona habilitada para poder xantar polvo e churraco. Ás 20:00 horas terá lugar unha mesa informativa para falar do proxecto de ALTRI-GREENALIA. \nE xa para rematar\, verbena con Loita Amada e Tiruleque. \nAgardámoste!
URL:http://plataformaulloaviva.com/axenda/romaria-viva-de-santiso/
LOCATION:Pontevedra
ATTACH;FMTTYPE=image/jpeg:http://plataformaulloaviva.com/wp-content/uploads/2024/11/Romaria_Santiso.jpg
END:VEVENT
BEGIN:VEVENT
DTSTART;VALUE=DATE:20241101
DTEND;VALUE=DATE:20241103
DTSTAMP:20260421T141145
CREATED:20241104T113303Z
LAST-MODIFIED:20241106T162720Z
UID:1904-1730422800-1730509199@plataformaulloaviva.com
SUMMARY:Cine-Agolada
DESCRIPTION:
URL:http://plataformaulloaviva.com/axenda/cine-agolada/
LOCATION:Pontevedra
ATTACH;FMTTYPE=image/jpeg:http://plataformaulloaviva.com/wp-content/uploads/2024/11/documental_agolada.jpg
END:VEVENT
BEGIN:VEVENT
DTSTART;VALUE=DATE:20241101
DTEND;VALUE=DATE:20241103
DTSTAMP:20260421T141145
CREATED:20241104T112323Z
LAST-MODIFIED:20241106T162716Z
UID:1898-1730422800-1730509199@plataformaulloaviva.com
SUMMARY:Productoras na Feira de Santos
DESCRIPTION:Cando? día da feira de santos\, día 1 de novembro estaremos produtorxs da terra do medio\nOnde ? No local da plataforma en Monterroso\nPor qué ? Porque nunha das feiras máis antigas de Galicia temos que amosar que as produtoras somos parte imprescindible para seguir construíndo un rural vivo\, habitado\, respetuoso co medio e herdeiro das ensinanzas das ancestrxs.\nQue haberá ? teremos o posto de merchandising e informativo da plataforma\, ás 11:30 acompañaranos o comando curuxás\n\nRecuperaremos o *manifesto que asinamos as produtoras e asociacións e selos galegos contra a implantación de altri hai meses\, a lectura será cara as 12:30
URL:http://plataformaulloaviva.com/axenda/1898/
LOCATION:Pontevedra
ATTACH;FMTTYPE=image/jpeg:http://plataformaulloaviva.com/wp-content/uploads/2024/11/Productoras_monterroso.jpg
END:VEVENT
END:VCALENDAR